BEGIN:VCALENDAR
VERSION:2.0
PRODID:-//Contratero//ES
CALSCALE:GREGORIAN
METHOD:PUBLISH
BEGIN:VEVENT
UID:CESDA 1435/2024@contratero.es
DTSTAMP:20260423T182425Z
DTSTART:20250123T235959
DTEND:20250124T005959
SUMMARY:Cierre: contratación de los servicios de implantación de u
DESCRIPTION:contratación de los servicios de implantación de un gestor documental corporativo de la Conselleria de Sanidad de la Generalitat Valenciana expediente\\n\\nOrganismo: Dirección General de Gestión Económica\, Contratación e Infraestructuras de la Conselleria de Sanidad\\n\\nVer en Contratero: https://contratero.es/contracts/CESDA 1435/2024
URL:https://contratero.es/contracts/CESDA 1435/2024
STATUS:CONFIRMED
BEGIN:VALARM
TRIGGER:-P1D
ACTION:DISPLAY
DESCRIPTION:Recordatorio: contratación de los servicios 
END:VALARM
END:VEVENT
END:VCALENDAR